BEGIN:VCALENDAR
VERSION:2.0
PRODID:JMS Hockey
X-PUBLISHED-TTL:P1W
BEGIN:VEVENT
UID:69e7ea8de3685
DTSTART:20151112T023000Z
SEQUENCE:0
TRANSP:OPAQUE
DTEND:20151112T040000Z
URL:http://jmshockey.com/games/7999
LOCATION:Polar Arena
SUMMARY:Lower Level Game at Polar Arena
CLASS:PUBLIC
DTSTAMP:20260421T162221Z
END:VEVENT
END:VCALENDAR