BEGIN:VCALENDAR
VERSION:2.0
PRODID:JMS Hockey
X-PUBLISHED-TTL:P1W
BEGIN:VEVENT
UID:69e7a358120ba
DTSTART:20151014T020000Z
SEQUENCE:0
TRANSP:OPAQUE
DTEND:20151014T033000Z
URL:http://jmshockey.com/games/7995
LOCATION:Polar Arena
SUMMARY:Lower Level Game at Polar Arena
CLASS:PUBLIC
DTSTAMP:20260421T111832Z
END:VEVENT
END:VCALENDAR