BEGIN:VCALENDAR
VERSION:2.0
PRODID:JMS Hockey
X-PUBLISHED-TTL:P1W
BEGIN:VEVENT
UID:69e7c3536036a
DTSTART:20151030T023000Z
SEQUENCE:0
TRANSP:OPAQUE
DTEND:20151030T040000Z
URL:http://jmshockey.com/games/7989
LOCATION:Maple Grove
SUMMARY:Lower Level Game at Maple Grove
CLASS:PUBLIC
DTSTAMP:20260421T133459Z
END:VEVENT
END:VCALENDAR