BEGIN:VCALENDAR
VERSION:2.0
PRODID:JMS Hockey
X-PUBLISHED-TTL:P1W
BEGIN:VEVENT
UID:69e7770217cb1
DTSTART:20151023T023000Z
SEQUENCE:0
TRANSP:OPAQUE
DTEND:20151023T040000Z
URL:http://jmshockey.com/games/7988
LOCATION:Maple Grove
SUMMARY:Lower Level Game at Maple Grove
CLASS:PUBLIC
DTSTAMP:20260421T080922Z
END:VEVENT
END:VCALENDAR