BEGIN:VCALENDAR
VERSION:2.0
PRODID:JMS Hockey
X-PUBLISHED-TTL:P1W
BEGIN:VEVENT
UID:69e7d476b49af
DTSTART:20151022T023000Z
SEQUENCE:0
TRANSP:OPAQUE
DTEND:20151022T040000Z
URL:http://jmshockey.com/games/7976
LOCATION:Maple Grove
SUMMARY:Upper Level Game at Maple Grove
CLASS:PUBLIC
DTSTAMP:20260421T144806Z
END:VEVENT
END:VCALENDAR