BEGIN:VCALENDAR
VERSION:2.0
PRODID:JMS Hockey
X-PUBLISHED-TTL:P1W
BEGIN:VEVENT
UID:69e7d43a3fc99
DTSTART:20090825T010000Z
SEQUENCE:0
TRANSP:OPAQUE
DTEND:20090825T023000Z
URL:http://jmshockey.com/games/797
LOCATION:Bloomington Ice Gardens
SUMMARY:Level 2 Game at Bloomington Ice Gardens
CLASS:PUBLIC
DTSTAMP:20260421T144706Z
END:VEVENT
END:VCALENDAR