BEGIN:VCALENDAR
VERSION:2.0
PRODID:JMS Hockey
X-PUBLISHED-TTL:P1W
BEGIN:VEVENT
UID:69e79f4a283ad
DTSTART:20151019T023000Z
SEQUENCE:0
TRANSP:OPAQUE
DTEND:20151019T040000Z
URL:http://jmshockey.com/games/7961
LOCATION:Hopkins Pavilion
SUMMARY:Novice Game at Hopkins Pavilion
CLASS:PUBLIC
DTSTAMP:20260421T110114Z
END:VEVENT
END:VCALENDAR