BEGIN:VCALENDAR
VERSION:2.0
PRODID:JMS Hockey
X-PUBLISHED-TTL:P1W
BEGIN:VEVENT
UID:69e79a25635f2
DTSTART:20151205T023000Z
SEQUENCE:0
TRANSP:OPAQUE
DTEND:20151205T040000Z
URL:http://jmshockey.com/games/7957
LOCATION:Eden Prairie Comm Ctr
SUMMARY:Intermediate Game at Eden Prairie Comm Ctr
CLASS:PUBLIC
DTSTAMP:20260421T103917Z
END:VEVENT
END:VCALENDAR