BEGIN:VCALENDAR
VERSION:2.0
PRODID:JMS Hockey
X-PUBLISHED-TTL:P1W
BEGIN:VEVENT
UID:69e79a2fc34bf
DTSTART:20151030T023000Z
SEQUENCE:0
TRANSP:OPAQUE
DTEND:20151030T040000Z
URL:http://jmshockey.com/games/7927
LOCATION:Apple Valley Sports Arena
SUMMARY:Intermediate Game at Apple Valley Sports Arena
CLASS:PUBLIC
DTSTAMP:20260421T103927Z
END:VEVENT
END:VCALENDAR