BEGIN:VCALENDAR
VERSION:2.0
PRODID:JMS Hockey
X-PUBLISHED-TTL:P1W
BEGIN:VEVENT
UID:69e79a1adc3fd
DTSTART:20151202T033000Z
SEQUENCE:0
TRANSP:OPAQUE
DTEND:20151202T050000Z
URL:http://jmshockey.com/games/7922
LOCATION:Apple Valley Sports Arena
SUMMARY:Lower Level Game at Apple Valley Sports Arena
CLASS:PUBLIC
DTSTAMP:20260421T103906Z
END:VEVENT
END:VCALENDAR