BEGIN:VCALENDAR
VERSION:2.0
PRODID:JMS Hockey
X-PUBLISHED-TTL:P1W
BEGIN:VEVENT
UID:69e7b58e672de
DTSTART:20151021T024500Z
SEQUENCE:0
TRANSP:OPAQUE
DTEND:20151021T041500Z
URL:http://jmshockey.com/games/7892
LOCATION:St Louis Park Rec Center
SUMMARY:Level 4 Game at St Louis Park Rec Center
CLASS:PUBLIC
DTSTAMP:20260421T123614Z
END:VEVENT
END:VCALENDAR