BEGIN:VCALENDAR
VERSION:2.0
PRODID:JMS Hockey
X-PUBLISHED-TTL:P1W
BEGIN:VEVENT
UID:69e7cb4154e99
DTSTART:20150912T150000Z
SEQUENCE:0
TRANSP:OPAQUE
DTEND:20150912T153000Z
URL:http://jmshockey.com/games/7887
LOCATION:Strauss Skates & Bicycles
SUMMARY:Upper Level Game at Strauss Skates & Bicycles
CLASS:PUBLIC
DTSTAMP:20260421T140849Z
END:VEVENT
END:VCALENDAR