BEGIN:VCALENDAR
VERSION:2.0
PRODID:JMS Hockey
X-PUBLISHED-TTL:P1W
BEGIN:VEVENT
UID:69e7ceb1f2a9c
DTSTART:20150912T023000Z
SEQUENCE:0
TRANSP:OPAQUE
DTEND:20150912T040000Z
URL:http://jmshockey.com/games/7867
LOCATION:Roseville Skating Center
SUMMARY:Lower Level Game at Roseville Skating Center
CLASS:PUBLIC
DTSTAMP:20260421T142330Z
END:VEVENT
END:VCALENDAR