BEGIN:VCALENDAR
VERSION:2.0
PRODID:JMS Hockey
X-PUBLISHED-TTL:P1W
BEGIN:VEVENT
UID:69e7cac4b7f38
DTSTART:20150904T020000Z
SEQUENCE:0
TRANSP:OPAQUE
DTEND:20150904T033000Z
URL:http://jmshockey.com/games/7865
LOCATION:St Thomas Ice Arena
SUMMARY:All level Game at St Thomas Ice Arena
CLASS:PUBLIC
DTSTAMP:20260421T140644Z
END:VEVENT
END:VCALENDAR