BEGIN:VCALENDAR
VERSION:2.0
PRODID:JMS Hockey
X-PUBLISHED-TTL:P1W
BEGIN:VEVENT
UID:69e7add24bb8d
DTSTART:20150920T014000Z
SEQUENCE:0
TRANSP:OPAQUE
DTEND:20150920T031000Z
URL:http://jmshockey.com/games/7862
LOCATION:St Thomas Ice Arena
SUMMARY:All level Game at St Thomas Ice Arena
CLASS:PUBLIC
DTSTAMP:20260421T120314Z
END:VEVENT
END:VCALENDAR