BEGIN:VCALENDAR
VERSION:2.0
PRODID:JMS Hockey
X-PUBLISHED-TTL:P1W
BEGIN:VEVENT
UID:69e79a625cdcf
DTSTART:20151002T024000Z
SEQUENCE:0
TRANSP:OPAQUE
DTEND:20151002T041000Z
URL:http://jmshockey.com/games/7857
LOCATION:St Thomas Ice Arena
SUMMARY:All level Game at St Thomas Ice Arena
CLASS:PUBLIC
DTSTAMP:20260421T104018Z
END:VEVENT
END:VCALENDAR