BEGIN:VCALENDAR
VERSION:2.0
PRODID:JMS Hockey
X-PUBLISHED-TTL:P1W
BEGIN:VEVENT
UID:69e7e00007c39
DTSTART:20090815T014500Z
SEQUENCE:0
TRANSP:OPAQUE
DTEND:20090815T031500Z
URL:http://jmshockey.com/games/785
LOCATION:Roseville Skating Center
SUMMARY:Level 3 Game at Roseville Skating Center
CLASS:PUBLIC
DTSTAMP:20260421T153720Z
END:VEVENT
END:VCALENDAR