BEGIN:VCALENDAR
VERSION:2.0
PRODID:JMS Hockey
X-PUBLISHED-TTL:P1W
BEGIN:VEVENT
UID:69e79a1153277
DTSTART:20150904T024500Z
SEQUENCE:0
TRANSP:OPAQUE
DTEND:20150904T041500Z
URL:http://jmshockey.com/games/7835
LOCATION:Apple Valley Hayes Park Arena
SUMMARY:Intermediate Game at Apple Valley Hayes Park Arena
CLASS:PUBLIC
DTSTAMP:20260421T103857Z
END:VEVENT
END:VCALENDAR