BEGIN:VCALENDAR
VERSION:2.0
PRODID:JMS Hockey
X-PUBLISHED-TTL:P1W
BEGIN:VEVENT
UID:69e7a78d720d9
DTSTART:20150928T023000Z
SEQUENCE:0
TRANSP:OPAQUE
DTEND:20150928T040000Z
URL:http://jmshockey.com/games/7834
LOCATION:Hopkins Pavilion
SUMMARY:All level Game at Hopkins Pavilion
CLASS:PUBLIC
DTSTAMP:20260421T113629Z
END:VEVENT
END:VCALENDAR