BEGIN:VCALENDAR
VERSION:2.0
PRODID:JMS Hockey
X-PUBLISHED-TTL:P1W
BEGIN:VEVENT
UID:69e7e6cf97616
DTSTART:20150914T023000Z
SEQUENCE:0
TRANSP:OPAQUE
DTEND:20150914T040000Z
URL:http://jmshockey.com/games/7832
LOCATION:Hopkins Pavilion
SUMMARY:All level Game at Hopkins Pavilion
CLASS:PUBLIC
DTSTAMP:20260421T160623Z
END:VEVENT
END:VCALENDAR