BEGIN:VCALENDAR
VERSION:2.0
PRODID:JMS Hockey
X-PUBLISHED-TTL:P1W
BEGIN:VEVENT
UID:69e78409e0310
DTSTART:20151005T023000Z
SEQUENCE:0
TRANSP:OPAQUE
DTEND:20151005T040000Z
URL:http://jmshockey.com/games/7831
LOCATION:Hopkins Pavilion
SUMMARY:All level Game at Hopkins Pavilion
CLASS:PUBLIC
DTSTAMP:20260421T090457Z
END:VEVENT
END:VCALENDAR