BEGIN:VCALENDAR
VERSION:2.0
PRODID:JMS Hockey
X-PUBLISHED-TTL:P1W
BEGIN:VEVENT
UID:69e79a08a6444
DTSTART:20150909T024500Z
SEQUENCE:0
TRANSP:OPAQUE
DTEND:20150909T041500Z
URL:http://jmshockey.com/games/7828
LOCATION:St Louis Park Rec Center
SUMMARY:Level 4 Game at St Louis Park Rec Center
CLASS:PUBLIC
DTSTAMP:20260421T103848Z
END:VEVENT
END:VCALENDAR