BEGIN:VCALENDAR
VERSION:2.0
PRODID:JMS Hockey
X-PUBLISHED-TTL:P1W
BEGIN:VEVENT
UID:69e7adc75f388
DTSTART:20150926T025500Z
SEQUENCE:0
TRANSP:OPAQUE
DTEND:20150926T042500Z
URL:http://jmshockey.com/games/7826
LOCATION:Rosemount Arena
SUMMARY:Lower Level Game at Rosemount Arena
CLASS:PUBLIC
DTSTAMP:20260421T120303Z
END:VEVENT
END:VCALENDAR