BEGIN:VCALENDAR
VERSION:2.0
PRODID:JMS Hockey
X-PUBLISHED-TTL:P1W
BEGIN:VEVENT
UID:69e7a3559a495
DTSTART:20150912T014500Z
SEQUENCE:0
TRANSP:OPAQUE
DTEND:20150912T031500Z
URL:http://jmshockey.com/games/7824
LOCATION:Rosemount Arena
SUMMARY:Lower Level Game at Rosemount Arena
CLASS:PUBLIC
DTSTAMP:20260421T111829Z
END:VEVENT
END:VCALENDAR