BEGIN:VCALENDAR
VERSION:2.0
PRODID:JMS Hockey
X-PUBLISHED-TTL:P1W
BEGIN:VEVENT
UID:69e787888a516
DTSTART:20150922T023000Z
SEQUENCE:0
TRANSP:OPAQUE
DTEND:20150922T040000Z
URL:http://jmshockey.com/games/7821
LOCATION:Roseville Skating Center
SUMMARY:Lower Level Game at Roseville Skating Center
CLASS:PUBLIC
DTSTAMP:20260421T091952Z
END:VEVENT
END:VCALENDAR