BEGIN:VCALENDAR
VERSION:2.0
PRODID:JMS Hockey
X-PUBLISHED-TTL:P1W
BEGIN:VEVENT
UID:69e7c36453253
DTSTART:20150924T023000Z
SEQUENCE:0
TRANSP:OPAQUE
DTEND:20150924T040000Z
URL:http://jmshockey.com/games/7814
LOCATION:Maple Grove
SUMMARY:Upper Level Game at Maple Grove
CLASS:PUBLIC
DTSTAMP:20260421T133516Z
END:VEVENT
END:VCALENDAR