BEGIN:VCALENDAR
VERSION:2.0
PRODID:JMS Hockey
X-PUBLISHED-TTL:P1W
BEGIN:VEVENT
UID:69e79a0945347
DTSTART:20150925T030000Z
SEQUENCE:0
TRANSP:OPAQUE
DTEND:20150925T043000Z
URL:http://jmshockey.com/games/7797
LOCATION:Apple Valley Hayes Park Arena
SUMMARY:Intermediate Game at Apple Valley Hayes Park Arena
CLASS:PUBLIC
DTSTAMP:20260421T103849Z
END:VEVENT
END:VCALENDAR