BEGIN:VCALENDAR
VERSION:2.0
PRODID:JMS Hockey
X-PUBLISHED-TTL:P1W
BEGIN:VEVENT
UID:69e773105c965
DTSTART:20150905T001500Z
SEQUENCE:0
TRANSP:OPAQUE
DTEND:20150905T014500Z
URL:http://jmshockey.com/games/7790
LOCATION:Eden Prairie Comm Ctr
SUMMARY:Intermediate Game at Eden Prairie Comm Ctr
CLASS:PUBLIC
DTSTAMP:20260421T075232Z
END:VEVENT
END:VCALENDAR