BEGIN:VCALENDAR
VERSION:2.0
PRODID:JMS Hockey
X-PUBLISHED-TTL:P1W
BEGIN:VEVENT
UID:69e7ad72be2ba
DTSTART:20150818T203000Z
SEQUENCE:0
TRANSP:OPAQUE
DTEND:20150818T220000Z
URL:http://jmshockey.com/games/7783
LOCATION:St Louis Park Rec Center
SUMMARY:All level Game at St Louis Park Rec Center
CLASS:PUBLIC
DTSTAMP:20260421T120138Z
END:VEVENT
END:VCALENDAR