BEGIN:VCALENDAR
VERSION:2.0
PRODID:JMS Hockey
X-PUBLISHED-TTL:P1W
BEGIN:VEVENT
UID:69e7b5843f601
DTSTART:20150918T013000Z
SEQUENCE:0
TRANSP:OPAQUE
DTEND:20150918T030000Z
URL:http://jmshockey.com/games/7782
LOCATION:Moose Sherritt Ice Arena
SUMMARY:All level Game at Moose Sherritt Ice Arena
CLASS:PUBLIC
DTSTAMP:20260421T123604Z
END:VEVENT
END:VCALENDAR