BEGIN:VCALENDAR
VERSION:2.0
PRODID:JMS Hockey
X-PUBLISHED-TTL:P1W
BEGIN:VEVENT
UID:69e7b313af59e
DTSTART:20150911T010000Z
SEQUENCE:0
TRANSP:OPAQUE
DTEND:20150911T023000Z
URL:http://jmshockey.com/games/7781
LOCATION:Moose Sherritt Ice Arena
SUMMARY:All level Game at Moose Sherritt Ice Arena
CLASS:PUBLIC
DTSTAMP:20260421T122539Z
END:VEVENT
END:VCALENDAR