BEGIN:VCALENDAR
VERSION:2.0
PRODID:JMS Hockey
X-PUBLISHED-TTL:P1W
BEGIN:VEVENT
UID:69e7b58486de5
DTSTART:20150826T021500Z
SEQUENCE:0
TRANSP:OPAQUE
DTEND:20150826T034500Z
URL:http://jmshockey.com/games/7780
LOCATION:St Louis Park Rec Center
SUMMARY:Level 4 Game at St Louis Park Rec Center
CLASS:PUBLIC
DTSTAMP:20260421T123604Z
END:VEVENT
END:VCALENDAR