BEGIN:VCALENDAR
VERSION:2.0
PRODID:JMS Hockey
X-PUBLISHED-TTL:P1W
BEGIN:VEVENT
UID:69e7ca6694972
DTSTART:20090815T021500Z
SEQUENCE:0
TRANSP:OPAQUE
DTEND:20090815T034500Z
URL:http://jmshockey.com/games/778
LOCATION:St Louis Park Rec Center
SUMMARY:Level 1 Game at St Louis Park Rec Center
CLASS:PUBLIC
DTSTAMP:20260421T140510Z
END:VEVENT
END:VCALENDAR