BEGIN:VCALENDAR
VERSION:2.0
PRODID:JMS Hockey
X-PUBLISHED-TTL:P1W
BEGIN:VEVENT
UID:69e7b97f51b4d
DTSTART:20150902T024500Z
SEQUENCE:0
TRANSP:OPAQUE
DTEND:20150902T041500Z
URL:http://jmshockey.com/games/7777
LOCATION:St Louis Park Rec Center
SUMMARY:Level 4 Game at St Louis Park Rec Center
CLASS:PUBLIC
DTSTAMP:20260421T125303Z
END:VEVENT
END:VCALENDAR