BEGIN:VCALENDAR
VERSION:2.0
PRODID:JMS Hockey
X-PUBLISHED-TTL:P1W
BEGIN:VEVENT
UID:69e7a7255a2e2
DTSTART:20150822T021500Z
SEQUENCE:0
TRANSP:OPAQUE
DTEND:20150822T034500Z
URL:http://jmshockey.com/games/7776
LOCATION:St Louis Park Rec Center
SUMMARY:Upper Level Game at St Louis Park Rec Center
CLASS:PUBLIC
DTSTAMP:20260421T113445Z
END:VEVENT
END:VCALENDAR