BEGIN:VCALENDAR
VERSION:2.0
PRODID:JMS Hockey
X-PUBLISHED-TTL:P1W
BEGIN:VEVENT
UID:69e7b5845bd65
DTSTART:20150829T004500Z
SEQUENCE:0
TRANSP:OPAQUE
DTEND:20150829T021500Z
URL:http://jmshockey.com/games/7773
LOCATION:Breck Anderson Arena
SUMMARY:Upper Level Game at Breck Anderson Arena
CLASS:PUBLIC
DTSTAMP:20260421T123604Z
END:VEVENT
END:VCALENDAR