BEGIN:VCALENDAR
VERSION:2.0
PRODID:JMS Hockey
X-PUBLISHED-TTL:P1W
BEGIN:VEVENT
UID:69e7d49a4b433
DTSTART:20150825T014000Z
SEQUENCE:0
TRANSP:OPAQUE
DTEND:20150825T031000Z
URL:http://jmshockey.com/games/7762
LOCATION:Inver Grove Heights Community Center
SUMMARY:Lower Level Game at Inver Grove Heights Community Center
CLASS:PUBLIC
DTSTAMP:20260421T144842Z
END:VEVENT
END:VCALENDAR