BEGIN:VCALENDAR
VERSION:2.0
PRODID:JMS Hockey
X-PUBLISHED-TTL:P1W
BEGIN:VEVENT
UID:69e7a30b8d9cf
DTSTART:20150818T001000Z
SEQUENCE:0
TRANSP:OPAQUE
DTEND:20150818T014000Z
URL:http://jmshockey.com/games/7761
LOCATION:Doug Woog Arena (Wakota)
SUMMARY:Lower Level Game at Doug Woog Arena (Wakota)
CLASS:PUBLIC
DTSTAMP:20260421T111715Z
END:VEVENT
END:VCALENDAR