BEGIN:VCALENDAR
VERSION:2.0
PRODID:JMS Hockey
X-PUBLISHED-TTL:P1W
BEGIN:VEVENT
UID:69e7c37b1079b
DTSTART:20150821T024500Z
SEQUENCE:0
TRANSP:OPAQUE
DTEND:20150821T041500Z
URL:http://jmshockey.com/games/7757
LOCATION:St Thomas Ice Arena
SUMMARY:All level Game at St Thomas Ice Arena
CLASS:PUBLIC
DTSTAMP:20260421T133539Z
END:VEVENT
END:VCALENDAR