BEGIN:VCALENDAR
VERSION:2.0
PRODID:JMS Hockey
X-PUBLISHED-TTL:P1W
BEGIN:VEVENT
UID:69e7c3198afbb
DTSTART:20150905T011500Z
SEQUENCE:0
TRANSP:OPAQUE
DTEND:20150905T024500Z
URL:http://jmshockey.com/games/7735
LOCATION:Roseville Skating Center
SUMMARY:Lower Level Game at Roseville Skating Center
CLASS:PUBLIC
DTSTAMP:20260421T133401Z
END:VEVENT
END:VCALENDAR