BEGIN:VCALENDAR
VERSION:2.0
PRODID:JMS Hockey
X-PUBLISHED-TTL:P1W
BEGIN:VEVENT
UID:69e799c9e58c9
DTSTART:20150811T020000Z
SEQUENCE:0
TRANSP:OPAQUE
DTEND:20150811T033000Z
URL:http://jmshockey.com/games/7732
LOCATION:Roseville Skating Center
SUMMARY:Lower Level Game at Roseville Skating Center
CLASS:PUBLIC
DTSTAMP:20260421T103745Z
END:VEVENT
END:VCALENDAR