BEGIN:VCALENDAR
VERSION:2.0
PRODID:JMS Hockey
X-PUBLISHED-TTL:P1W
BEGIN:VEVENT
UID:69e7ad4444a0a
DTSTART:20150813T023000Z
SEQUENCE:0
TRANSP:OPAQUE
DTEND:20150813T040000Z
URL:http://jmshockey.com/games/7724
LOCATION:Maple Grove
SUMMARY:Upper Level Game at Maple Grove
CLASS:PUBLIC
DTSTAMP:20260421T120052Z
END:VEVENT
END:VCALENDAR