BEGIN:VCALENDAR
VERSION:2.0
PRODID:JMS Hockey
X-PUBLISHED-TTL:P1W
BEGIN:VEVENT
UID:69e7caca8c412
DTSTART:20150925T020000Z
SEQUENCE:0
TRANSP:OPAQUE
DTEND:20150925T033000Z
URL:http://jmshockey.com/games/7712
LOCATION:Moose Sherritt Ice Arena
SUMMARY:All level Game at Moose Sherritt Ice Arena
CLASS:PUBLIC
DTSTAMP:20260421T140650Z
END:VEVENT
END:VCALENDAR