BEGIN:VCALENDAR
VERSION:2.0
PRODID:JMS Hockey
X-PUBLISHED-TTL:P1W
BEGIN:VEVENT
UID:69e7d48b10607
DTSTART:20150815T004500Z
SEQUENCE:0
TRANSP:OPAQUE
DTEND:20150815T021500Z
URL:http://jmshockey.com/games/7710
LOCATION:Eden Prairie Comm Ctr
SUMMARY:Intermediate Game at Eden Prairie Comm Ctr
CLASS:PUBLIC
DTSTAMP:20260421T144827Z
END:VEVENT
END:VCALENDAR