BEGIN:VCALENDAR
VERSION:2.0
PRODID:JMS Hockey
X-PUBLISHED-TTL:P1W
BEGIN:VEVENT
UID:69e7cb2e4a2f4
DTSTART:20150805T003000Z
SEQUENCE:0
TRANSP:OPAQUE
DTEND:20150805T020000Z
URL:http://jmshockey.com/games/7705
LOCATION:Eden Prairie Comm Ctr
SUMMARY:Upper Level Game at Eden Prairie Comm Ctr
CLASS:PUBLIC
DTSTAMP:20260421T140830Z
END:VEVENT
END:VCALENDAR