BEGIN:VCALENDAR
VERSION:2.0
PRODID:JMS Hockey
X-PUBLISHED-TTL:P1W
BEGIN:VEVENT
UID:69e79a11591e3
DTSTART:20150819T021500Z
SEQUENCE:0
TRANSP:OPAQUE
DTEND:20150819T034500Z
URL:http://jmshockey.com/games/7695
LOCATION:Apple Valley Hayes Park Arena
SUMMARY:Lower Level Game at Apple Valley Hayes Park Arena
CLASS:PUBLIC
DTSTAMP:20260421T103857Z
END:VEVENT
END:VCALENDAR