BEGIN:VCALENDAR
VERSION:2.0
PRODID:JMS Hockey
X-PUBLISHED-TTL:P1W
BEGIN:VEVENT
UID:69e7ada33d088
DTSTART:20150730T004000Z
SEQUENCE:0
TRANSP:OPAQUE
DTEND:20150730T021000Z
URL:http://jmshockey.com/games/7683
LOCATION:Doug Woog Arena (Wakota)
SUMMARY:Level 3 Game at Doug Woog Arena (Wakota)
CLASS:PUBLIC
DTSTAMP:20260421T120227Z
END:VEVENT
END:VCALENDAR