BEGIN:VCALENDAR
VERSION:2.0
PRODID:JMS Hockey
X-PUBLISHED-TTL:P1W
BEGIN:VEVENT
UID:69e7c37f276ec
DTSTART:20150718T003000Z
SEQUENCE:0
TRANSP:OPAQUE
DTEND:20150718T020000Z
URL:http://jmshockey.com/games/7681
LOCATION:Rosemount Arena
SUMMARY:Lower Level Game at Rosemount Arena
CLASS:PUBLIC
DTSTAMP:20260421T133543Z
END:VEVENT
END:VCALENDAR