BEGIN:VCALENDAR
VERSION:2.0
PRODID:JMS Hockey
X-PUBLISHED-TTL:P1W
BEGIN:VEVENT
UID:69e7788289d5f
DTSTART:20150725T003000Z
SEQUENCE:0
TRANSP:OPAQUE
DTEND:20150725T020000Z
URL:http://jmshockey.com/games/7680
LOCATION:Rosemount Arena
SUMMARY:Lower Level Game at Rosemount Arena
CLASS:PUBLIC
DTSTAMP:20260421T081546Z
END:VEVENT
END:VCALENDAR