BEGIN:VCALENDAR
VERSION:2.0
PRODID:JMS Hockey
X-PUBLISHED-TTL:P1W
BEGIN:VEVENT
UID:69e9e7486a153
DTSTART:20090808T014500Z
SEQUENCE:0
TRANSP:OPAQUE
DTEND:20090808T031500Z
URL:http://jmshockey.com/games/768
LOCATION:Bloomington Ice Gardens
SUMMARY:Level 4 Game at Bloomington Ice Gardens
CLASS:PUBLIC
DTSTAMP:20260423T043256Z
END:VEVENT
END:VCALENDAR